BEGIN:VCALENDAR
VERSION:2.0
PRODID:-//SP Toggenburg - ECPv6.15.6//NONSGML v1.0//EN
CALSCALE:GREGORIAN
METHOD:PUBLISH
X-WR-CALNAME:SP Toggenburg
X-ORIGINAL-URL:https://sp-toggenburg.ch
X-WR-CALDESC:Veranstaltungen im SP Toggenburg
REFRESH-INTERVAL;VALUE=DURATION:PT1H
X-Robots-Tag:noindex
X-PUBLISHED-TTL:PT1H
BEGIN:VTIMEZONE
TZID:Europe/Zurich
BEGIN:DAYLIGHT
TZOFFSETFROM:+0100
TZOFFSETTO:+0200
TZNAME:CEST
DTSTART:20230326T010000
END:DAYLIGHT
BEGIN:STANDARD
TZOFFSETFROM:+0200
TZOFFSETTO:+0100
TZNAME:CET
DTSTART:20231029T010000
END:STANDARD
BEGIN:DAYLIGHT
TZOFFSETFROM:+0100
TZOFFSETTO:+0200
TZNAME:CEST
DTSTART:20240331T010000
END:DAYLIGHT
BEGIN:STANDARD
TZOFFSETFROM:+0200
TZOFFSETTO:+0100
TZNAME:CET
DTSTART:20241027T010000
END:STANDARD
BEGIN:DAYLIGHT
TZOFFSETFROM:+0100
TZOFFSETTO:+0200
TZNAME:CEST
DTSTART:20250330T010000
END:DAYLIGHT
BEGIN:STANDARD
TZOFFSETFROM:+0200
TZOFFSETTO:+0100
TZNAME:CET
DTSTART:20251026T010000
END:STANDARD
END:VTIMEZONE
BEGIN:VEVENT
DTSTART;TZID=Europe/Zurich:20240111T080000
DTEND;TZID=Europe/Zurich:20240630T170000
DTSTAMP:20260421T210358
CREATED:20240111T130952Z
LAST-MODIFIED:20240129T090113Z
UID:88746-1704960000-1719766800@sp-toggenburg.ch
SUMMARY:SP Toggenburg Jahresprogramm 2024
DESCRIPTION:Jahresprogramm 2024 SP Toggenburg
URL:https://sp-toggenburg.ch/events/sp-toggenburg-jahresprogramm-2024/
END:VEVENT
END:VCALENDAR