BEGIN:VCALENDAR
VERSION:2.0
PRODID:-//SP Toggenburg - ECPv6.15.6//NONSGML v1.0//EN
CALSCALE:GREGORIAN
METHOD:PUBLISH
X-WR-CALNAME:SP Toggenburg
X-ORIGINAL-URL:https://sp-toggenburg.ch
X-WR-CALDESC:Veranstaltungen im SP Toggenburg
REFRESH-INTERVAL;VALUE=DURATION:PT1H
X-Robots-Tag:noindex
X-PUBLISHED-TTL:PT1H
BEGIN:VTIMEZONE
TZID:Europe/Zurich
BEGIN:DAYLIGHT
TZOFFSETFROM:+0100
TZOFFSETTO:+0200
TZNAME:CEST
DTSTART:20220327T010000
END:DAYLIGHT
BEGIN:STANDARD
TZOFFSETFROM:+0200
TZOFFSETTO:+0100
TZNAME:CET
DTSTART:20221030T010000
END:STANDARD
BEGIN:DAYLIGHT
TZOFFSETFROM:+0100
TZOFFSETTO:+0200
TZNAME:CEST
DTSTART:20230326T010000
END:DAYLIGHT
BEGIN:STANDARD
TZOFFSETFROM:+0200
TZOFFSETTO:+0100
TZNAME:CET
DTSTART:20231029T010000
END:STANDARD
BEGIN:DAYLIGHT
TZOFFSETFROM:+0100
TZOFFSETTO:+0200
TZNAME:CEST
DTSTART:20240331T010000
END:DAYLIGHT
BEGIN:STANDARD
TZOFFSETFROM:+0200
TZOFFSETTO:+0100
TZNAME:CET
DTSTART:20241027T010000
END:STANDARD
END:VTIMEZONE
BEGIN:VEVENT
DTSTART;VALUE=DATE:20231209
DTEND;VALUE=DATE:20231211
DTSTAMP:20260420T171125
CREATED:20230720T084714Z
LAST-MODIFIED:20230720T084714Z
UID:88604-1702080000-1702252799@sp-toggenburg.ch
SUMMARY:Weihnachtsmarkt Lichtensteig
DESCRIPTION:Wir sind mit einem Stand am Lichtensteiger Weihnachtsmarkt vertreten und freuen uns über euren Besuch.
URL:https://sp-toggenburg.ch/events/weihnachtsmarkt-lichtensteig/
CATEGORIES:Anlass
END:VEVENT
END:VCALENDAR